BEGIN:VCALENDAR
VERSION:2.0
PRODID:-//Leading Garden Center in Farmington Hills, MI - ECPv6.15.20//NONSGML v1.0//EN
CALSCALE:GREGORIAN
METHOD:PUBLISH
X-WR-CALNAME:Leading Garden Center in Farmington Hills, MI
X-ORIGINAL-URL:https://www.farmerjohnsgreenhouse.com
X-WR-CALDESC:Events for Leading Garden Center in Farmington Hills, MI
REFRESH-INTERVAL;VALUE=DURATION:PT1H
X-Robots-Tag:noindex
X-PUBLISHED-TTL:PT1H
BEGIN:VTIMEZONE
TZID:America/New_York
BEGIN:DAYLIGHT
TZOFFSETFROM:-0500
TZOFFSETTO:-0400
TZNAME:EDT
DTSTART:20230312T070000
END:DAYLIGHT
BEGIN:STANDARD
TZOFFSETFROM:-0400
TZOFFSETTO:-0500
TZNAME:EST
DTSTART:20231105T060000
END:STANDARD
BEGIN:DAYLIGHT
TZOFFSETFROM:-0500
TZOFFSETTO:-0400
TZNAME:EDT
DTSTART:20240310T070000
END:DAYLIGHT
BEGIN:STANDARD
TZOFFSETFROM:-0400
TZOFFSETTO:-0500
TZNAME:EST
DTSTART:20241103T060000
END:STANDARD
BEGIN:DAYLIGHT
TZOFFSETFROM:-0500
TZOFFSETTO:-0400
TZNAME:EDT
DTSTART:20250309T070000
END:DAYLIGHT
BEGIN:STANDARD
TZOFFSETFROM:-0400
TZOFFSETTO:-0500
TZNAME:EST
DTSTART:20251102T060000
END:STANDARD
END:VTIMEZONE
BEGIN:VEVENT
DTSTART;TZID=America/New_York:20240322T143000
DTEND;TZID=America/New_York:20240322T163000
DTSTAMP:20260422T042551
CREATED:20240226T194202Z
LAST-MODIFIED:20240229T195834Z
UID:244238-1711117800-1711125000@www.farmerjohnsgreenhouse.com
SUMMARY:SPRING LADIES NIGHT
DESCRIPTION:SPRING INTO SAVINGS! SPRING INTO FUN! \nExclusive discounts\, DJ\, Wine\, Snacks\, Lekker Choco\, Photobooth \nEntry fee donations benefiting the American Indian health and family services of south east Michigan
URL:https://www.farmerjohnsgreenhouse.com/event/spring-ladies-night-2/
LOCATION:Farmer John’s Home and Garden\, 26950 Haggerty Rd.\, Farmington Hills\, Michigan\, 48331
CATEGORIES:Shopping Event
ATTACH;FMTTYPE=image/jpeg:https://www.farmerjohnsgreenhouse.com/wp-content/uploads/2024/02/webstiteEventImage_Springladiesnight_24.jpg
ORGANIZER;CN="Farmer John's Home and Garden":MAILTO:info@farmerjohnsgreenhouse.com
END:VEVENT
END:VCALENDAR