BEGIN:VCALENDAR
VERSION:2.0
PRODID:-//Leading Garden Center in Farmington Hills, MI - ECPv6.15.20//NONSGML v1.0//EN
CALSCALE:GREGORIAN
METHOD:PUBLISH
X-ORIGINAL-URL:https://www.farmerjohnsgreenhouse.com
X-WR-CALDESC:Events for Leading Garden Center in Farmington Hills, MI
REFRESH-INTERVAL;VALUE=DURATION:PT1H
X-Robots-Tag:noindex
X-PUBLISHED-TTL:PT1H
BEGIN:VTIMEZONE
TZID:America/New_York
BEGIN:DAYLIGHT
TZOFFSETFROM:-0500
TZOFFSETTO:-0400
TZNAME:EDT
DTSTART:20230312T070000
END:DAYLIGHT
BEGIN:STANDARD
TZOFFSETFROM:-0400
TZOFFSETTO:-0500
TZNAME:EST
DTSTART:20231105T060000
END:STANDARD
BEGIN:DAYLIGHT
TZOFFSETFROM:-0500
TZOFFSETTO:-0400
TZNAME:EDT
DTSTART:20240310T070000
END:DAYLIGHT
BEGIN:STANDARD
TZOFFSETFROM:-0400
TZOFFSETTO:-0500
TZNAME:EST
DTSTART:20241103T060000
END:STANDARD
BEGIN:DAYLIGHT
TZOFFSETFROM:-0500
TZOFFSETTO:-0400
TZNAME:EDT
DTSTART:20250309T070000
END:DAYLIGHT
BEGIN:STANDARD
TZOFFSETFROM:-0400
TZOFFSETTO:-0500
TZNAME:EST
DTSTART:20251102T060000
END:STANDARD
END:VTIMEZONE
BEGIN:VEVENT
DTSTART;TZID=America/New_York:20241004T140000
DTEND;TZID=America/New_York:20241004T160000
DTSTAMP:20260422T012937
CREATED:20240903T190808Z
LAST-MODIFIED:20240903T190905Z
UID:245044-1728050400-1728057600@www.farmerjohnsgreenhouse.com
SUMMARY:LADIES NIGHT - FALL FASHION
DESCRIPTION:– JOIN US FOR A SPECIAL SHOPPING EXPERIENCE FEATURING OUR BRAND NEW 2024 FALL COLLECTION – \nFriday\, 4th of October\, Starts at 6:00pm \nDJ | Food & Drink | Mulled Wine & Cider Sampling | Exclusive Deals | Local Vendors | Permanent Bracelets (for those who have signed up!) | And More! \n$5 Entry fee benefiting Dress for Success \n  \nPermanent Jewelry Sign Ups!\n\nPlease sign up for ONLY ONE 20 minute time slot. Up to 5 individual people can sign up for each 20 minute time slot. Please get in line for your jewelry installation PROMPTLY at the start of your designated time slot. Jewelry installation will only take ~4 minutes.\n\n\n\n\n\n\n   
URL:https://www.farmerjohnsgreenhouse.com/event/ladies-night-fall-fashion-3/
LOCATION:Farmer John’s Home and Garden\, 26950 Haggerty Rd.\, Farmington Hills\, Michigan\, 48331
CATEGORIES:Shopping Event
ORGANIZER;CN="Farmer John's Home and Garden":MAILTO:info@farmerjohnsgreenhouse.com
END:VEVENT
END:VCALENDAR