BEGIN:VCALENDAR
VERSION:2.0
PRODID:-//Leading Garden Center in Farmington Hills, MI - ECPv6.15.20//NONSGML v1.0//EN
CALSCALE:GREGORIAN
METHOD:PUBLISH
X-ORIGINAL-URL:https://www.farmerjohnsgreenhouse.com
X-WR-CALDESC:Events for Leading Garden Center in Farmington Hills, MI
REFRESH-INTERVAL;VALUE=DURATION:PT1H
X-Robots-Tag:noindex
X-PUBLISHED-TTL:PT1H
BEGIN:VTIMEZONE
TZID:America/New_York
BEGIN:DAYLIGHT
TZOFFSETFROM:-0500
TZOFFSETTO:-0400
TZNAME:EDT
DTSTART:20230312T070000
END:DAYLIGHT
BEGIN:STANDARD
TZOFFSETFROM:-0400
TZOFFSETTO:-0500
TZNAME:EST
DTSTART:20231105T060000
END:STANDARD
BEGIN:DAYLIGHT
TZOFFSETFROM:-0500
TZOFFSETTO:-0400
TZNAME:EDT
DTSTART:20240310T070000
END:DAYLIGHT
BEGIN:STANDARD
TZOFFSETFROM:-0400
TZOFFSETTO:-0500
TZNAME:EST
DTSTART:20241103T060000
END:STANDARD
BEGIN:DAYLIGHT
TZOFFSETFROM:-0500
TZOFFSETTO:-0400
TZNAME:EDT
DTSTART:20250309T070000
END:DAYLIGHT
BEGIN:STANDARD
TZOFFSETFROM:-0400
TZOFFSETTO:-0500
TZNAME:EST
DTSTART:20251102T060000
END:STANDARD
END:VTIMEZONE
BEGIN:VEVENT
DTSTART;TZID=America/New_York:20240928T053000
DTEND;TZID=America/New_York:20240928T080000
DTSTAMP:20260421T130947
CREATED:20240925T215840Z
LAST-MODIFIED:20240925T215840Z
UID:245313-1727501400-1727510400@www.farmerjohnsgreenhouse.com
SUMMARY:Fall Bulbs Hands on Talk!
DESCRIPTION:FALL BULBS FOR SPRING BLOOMS!\nJOIN OUR HANDS-ON TALK! \nIn this hands-on talk\, Sedar\, our in-house bulb and perennial expert and aficionado\, will set you up for successful bulb planting this fall so you can’t enjoy plentiful spring blooms! \nLearn all about the best bulb planting practices\, what bulbs to plant\, when\, and more! We’ll go over proper planting techniques\, all-season care\, and how to best utilize the space in your garden to get more for your money’s worth! \nFirst talk starts at 9:30AM – 10:00AM \nSecond talk starts at 11:30AM – 12:00PM
URL:https://www.farmerjohnsgreenhouse.com/event/fall-bulbs-hands-on-talk/
LOCATION:Farmer John’s Home and Garden\, 26950 Haggerty Rd.\, Farmington Hills\, Michigan\, 48331
CATEGORIES:Free Seminar
ATTACH;FMTTYPE=image/jpeg:https://www.farmerjohnsgreenhouse.com/wp-content/uploads/2024/09/webstiteEventImage_bulbs10-24.jpg
ORGANIZER;CN="Farmer John's Home and Garden":MAILTO:info@farmerjohnsgreenhouse.com
END:VEVENT
END:VCALENDAR