BEGIN:VCALENDAR
VERSION:2.0
PRODID:-//Leading Garden Center in Farmington Hills, MI - ECPv6.15.20//NONSGML v1.0//EN
CALSCALE:GREGORIAN
METHOD:PUBLISH
X-ORIGINAL-URL:https://www.farmerjohnsgreenhouse.com
X-WR-CALDESC:Events for Leading Garden Center in Farmington Hills, MI
REFRESH-INTERVAL;VALUE=DURATION:PT1H
X-Robots-Tag:noindex
X-PUBLISHED-TTL:PT1H
BEGIN:VTIMEZONE
TZID:America/New_York
BEGIN:DAYLIGHT
TZOFFSETFROM:-0500
TZOFFSETTO:-0400
TZNAME:EDT
DTSTART:20240310T070000
END:DAYLIGHT
BEGIN:STANDARD
TZOFFSETFROM:-0400
TZOFFSETTO:-0500
TZNAME:EST
DTSTART:20241103T060000
END:STANDARD
BEGIN:DAYLIGHT
TZOFFSETFROM:-0500
TZOFFSETTO:-0400
TZNAME:EDT
DTSTART:20250309T070000
END:DAYLIGHT
BEGIN:STANDARD
TZOFFSETFROM:-0400
TZOFFSETTO:-0500
TZNAME:EST
DTSTART:20251102T060000
END:STANDARD
BEGIN:DAYLIGHT
TZOFFSETFROM:-0500
TZOFFSETTO:-0400
TZNAME:EDT
DTSTART:20260308T070000
END:DAYLIGHT
BEGIN:STANDARD
TZOFFSETFROM:-0400
TZOFFSETTO:-0500
TZNAME:EST
DTSTART:20261101T060000
END:STANDARD
END:VTIMEZONE
BEGIN:VEVENT
DTSTART;VALUE=DATE:20251030
DTEND;VALUE=DATE:20251103
DTSTAMP:20260421T141853
CREATED:20250909T022229Z
LAST-MODIFIED:20250909T022229Z
UID:249904-1761854400-1762109999@www.farmerjohnsgreenhouse.com
SUMMARY:Bloom Bucks Holiday Sneak Peek - 2025
DESCRIPTION:– SPECIAL SNEAK PEEK FOR BLOOM BUCKS MEMBERS ONLY! –\nFriday\, October 31st to Sunday\, November 2nd\, Open to Close\nLive Music • Complimentary Food\, Refreshments & More!
URL:https://www.farmerjohnsgreenhouse.com/event/bloom-bucks-holiday-sneak-peek-2025/
LOCATION:Farmer John’s Home and Garden\, 26950 Haggerty Rd.\, Farmington Hills\, Michigan\, 48331
CATEGORIES:Shopping Event
END:VEVENT
BEGIN:VEVENT
DTSTART;VALUE=DATE:20251106
DTEND;VALUE=DATE:20251110
DTSTAMP:20260421T141853
CREATED:20250909T014858Z
LAST-MODIFIED:20250923T185755Z
UID:249900-1762455600-1762714799@www.farmerjohnsgreenhouse.com
SUMMARY:Holiday Open House
DESCRIPTION:– JOIN US IN KICKING OFF THE HOLIDAY SEASON WITH SOME GREAT DEALS! –\nFriday\, 7th to Sunday\, 9th of November\, Open to Close\nEvent Exclusive Sales • Live Music • Free Raffles • Shop Our New Seasonal Decor • Complimentary Food\, Refreshments & More!
URL:https://www.farmerjohnsgreenhouse.com/event/holiday-open-house-2/
LOCATION:Farmer John’s Home and Garden\, 26950 Haggerty Rd.\, Farmington Hills\, Michigan\, 48331
CATEGORIES:Shopping Event
ORGANIZER;CN="Farmer John's Home and Garden":MAILTO:info@farmerjohnsgreenhouse.com
END:VEVENT
END:VCALENDAR